BEGIN:VCALENDAR
VERSION:2.0
PRODID:-//Post Adoption &amp; Welfare Support - ECPv6.15.20//NONSGML v1.0//EN
CALSCALE:GREGORIAN
METHOD:PUBLISH
X-WR-CALNAME:Post Adoption &amp; Welfare Support
X-ORIGINAL-URL:https://www.paws-program.org
X-WR-CALDESC:Events for Post Adoption &amp; Welfare Support
REFRESH-INTERVAL;VALUE=DURATION:PT1H
X-Robots-Tag:noindex
X-PUBLISHED-TTL:PT1H
BEGIN:VTIMEZONE
TZID:America/Phoenix
BEGIN:STANDARD
TZOFFSETFROM:-0700
TZOFFSETTO:-0700
TZNAME:MST
DTSTART:20240101T000000
END:STANDARD
END:VTIMEZONE
BEGIN:VEVENT
DTSTART;TZID=America/Phoenix:20250814T180000
DTEND;TZID=America/Phoenix:20250814T190000
DTSTAMP:20260419T115009
CREATED:20250717T155854Z
LAST-MODIFIED:20250731T201324Z
UID:1505-1755194400-1755198000@www.paws-program.org
SUMMARY:L.E.G.S Presentation by Natalie Widomski
DESCRIPTION:L.E.G.S stands for Learning\, Environment\, Genetics\, and Self.  The LEGS platform was developed from an ethological perspective and was established to help people understand and utilize the different aspects of a dog that influence their behavior.  This presentation will go over each component of L.E.G.S\, how it can influence behavior\, and discuss how to work with your dog to satisfy their needs and facilitate learning in a cooperative way. \n“Natalie Widomski\, Owner and Trainer of Pawsitive K9 Trainers LLC is a Certified Professional Dog Trainer through the Victoria Stilwell Academy for Training and Behavior\, a Licensed Family Dog Mediator and a Certified Service Dog Coach since 2018. My focus is working with puppies and adolescent pups teaching them basic manners\, and life skills. For the owners my focus is teaching them about animal welfare and understanding their dogs through using ethological lens; providing them with an education to give their dogs agency\, choice and to navigate the challenges of normal canine behavior so they can raise a healthy\, happy and fulfilled dog.” \n  \nNatalie Widomski\, VSA-CPDT\, LFDM-T\, SDC \nCertified Professional Dog Trainer \nLicensed Family Dog Mediator \nCertified Service Dog Coach \nRegistered AKC CGC Evaluator \n623-337-6977 \nwww.pawsitivek9trainers.com \nwww.facebook.com/allcanines/ \nInstagram: @pawsitivek9trainers \nTikTok:@caninecommunicator
URL:https://www.paws-program.org/event/l-e-g-s-presentation-by-natalie-widomski/
LOCATION:Virtual
CATEGORIES:Summer School
ORGANIZER;CN="PAWS":MAILTO:info@paws-program.org
END:VEVENT
END:VCALENDAR