BEGIN:VCALENDAR
VERSION:2.0
PRODID:-//Post Adoption &amp; Welfare Support - ECPv6.15.20//NONSGML v1.0//EN
CALSCALE:GREGORIAN
METHOD:PUBLISH
X-WR-CALNAME:Post Adoption &amp; Welfare Support
X-ORIGINAL-URL:https://www.paws-program.org
X-WR-CALDESC:Events for Post Adoption &amp; Welfare Support
REFRESH-INTERVAL;VALUE=DURATION:PT1H
X-Robots-Tag:noindex
X-PUBLISHED-TTL:PT1H
BEGIN:VTIMEZONE
TZID:America/Phoenix
BEGIN:STANDARD
TZOFFSETFROM:-0700
TZOFFSETTO:-0700
TZNAME:MST
DTSTART:20240101T000000
END:STANDARD
END:VTIMEZONE
BEGIN:VEVENT
DTSTART;TZID=America/Phoenix:20250717T170000
DTEND;TZID=America/Phoenix:20250717T183000
DTSTAMP:20260419T100447
CREATED:20250713T214508Z
LAST-MODIFIED:20250716T215637Z
UID:1503-1752771600-1752777000@www.paws-program.org
SUMMARY:Lisa Gunter and The Future of Foster Programs
DESCRIPTION:We are thrilled to be able to bring this presentation to PAWS as our next installment of this years summer school 📚 \nImplications & future directions of foster care programs in animal shelters \nFoster care\, a unique form of human–animal interaction\, is an effective tool for improving welfare by allowing animals to escape the stressors of the shelter and experience more opportunities for social interaction in a home. In this talk\, Lisa will discuss a recent review and new research with her graduate student\, Grace Phillips\, in which we examined foster care programs and their effects on human and animal welfare\, evaluate the successes and challenges of supporting shelter foster care programs\, and recommend best practices for lasting programmatic success. I’ll conclude the talk with preliminary findings from our recent research exploring hybrid fostering. \nSign up for this session here: https://m.signupgenius.com/#!/showSignUp/10C0E4BA8A82CA0F9CE9-57072492-paws
URL:https://www.paws-program.org/event/lisa-gunter-and-the-future-of-foster-programs/
LOCATION:Arizona
CATEGORIES:Summer School
END:VEVENT
BEGIN:VEVENT
DTSTART;TZID=America/Phoenix:20250626T180000
DTEND;TZID=America/Phoenix:20250626T190000
DTSTAMP:20260419T100447
CREATED:20250528T032316Z
LAST-MODIFIED:20250528T032948Z
UID:1441-1750960800-1750964400@www.paws-program.org
SUMMARY:Recognizing Signs of Pain in Dogs
DESCRIPTION:Dr. Kathleen Smith will discuss the ways we can identify pain in dogs\, and how canine physical therapy can help to reduce pain\, and provide a better quality of life for our companion animals. \nhttps://www.signupgenius.com/go/10C0E4BA8A82CA0F9CE9-57072492-paws
URL:https://www.paws-program.org/event/recognizing-signs-of-pain-in-dogs/
LOCATION:Arizona
CATEGORIES:Summer School
ORGANIZER;CN="PAWS":MAILTO:info@paws-program.org
END:VEVENT
BEGIN:VEVENT
DTSTART;TZID=America/Phoenix:20250621T080000
DTEND;TZID=America/Phoenix:20250621T130000
DTSTAMP:20260419T100447
CREATED:20250508T033240Z
LAST-MODIFIED:20250508T033240Z
UID:1048-1750492800-1750510800@www.paws-program.org
SUMMARY:Cycle Gives Ride at CycleBar
DESCRIPTION:
URL:https://www.paws-program.org/event/cycle-gives-ride-at-cyclebar/
LOCATION:CycleBar\, 2484 S Santan Village Parkway Suite 103\, Gilbert\, AZ\, 85295\, United States
CATEGORIES:Events
ATTACH;FMTTYPE=image/png:https://www.paws-program.org/wp-content/uploads/2025/05/PAWS_FullLogo_Color.png
ORGANIZER;CN="PAWS":MAILTO:info@paws-program.org
END:VEVENT
BEGIN:VEVENT
DTSTART;TZID=America/Phoenix:20250612T180000
DTEND;TZID=America/Phoenix:20250612T190000
DTSTAMP:20260419T100447
CREATED:20250528T032709Z
LAST-MODIFIED:20250528T032934Z
UID:1468-1749751200-1749754800@www.paws-program.org
SUMMARY:Compassionate Volunteering with Shelter Dogs
DESCRIPTION:Fear-Free Certified and R+ professional dog trainer\, Dan Skultety\, outlines compassionate volunteer work with Shelter Dogs. \nhttps://www.signupgenius.com/go/10C0E4BA8A82CA0F9CE9-57072492-paws
URL:https://www.paws-program.org/event/compassionate-volunteering-with-shelter-dogs/
LOCATION:Arizona
CATEGORIES:Summer School
ORGANIZER;CN="PAWS":MAILTO:info@paws-program.org
END:VEVENT
END:VCALENDAR