BEGIN:VCALENDAR
VERSION:2.0
PRODID:-//Post Adoption &amp; Welfare Support - ECPv6.15.20//NONSGML v1.0//EN
CALSCALE:GREGORIAN
METHOD:PUBLISH
X-WR-CALNAME:Post Adoption &amp; Welfare Support
X-ORIGINAL-URL:https://www.paws-program.org
X-WR-CALDESC:Events for Post Adoption &amp; Welfare Support
REFRESH-INTERVAL;VALUE=DURATION:PT1H
X-Robots-Tag:noindex
X-PUBLISHED-TTL:PT1H
BEGIN:VTIMEZONE
TZID:America/Phoenix
BEGIN:STANDARD
TZOFFSETFROM:-0700
TZOFFSETTO:-0700
TZNAME:MST
DTSTART:20240101T000000
END:STANDARD
END:VTIMEZONE
BEGIN:VEVENT
DTSTART;TZID=America/Phoenix:20251101T080000
DTEND;TZID=America/Phoenix:20251101T120000
DTSTAMP:20260419T081811
CREATED:20260217T224655Z
LAST-MODIFIED:20260217T224655Z
UID:1618-1761984000-1761998400@www.paws-program.org
SUMMARY:MCACC Enrichment Day
DESCRIPTION:If you are a current MCACC volunteer come join us for our next enrichment event at the MCACC East shelter.  We’ll meet early and have some fun pulling dogs and finish by handling out some calming enrichment activities to the current shelter residents. \nReach out to us at info@paws-program.org if you want to volunteer and be included in future communications.
URL:https://www.paws-program.org/event/mcacc-enrichment-day-3/
LOCATION:MCACC East\, 1920 S Lewis\, Mesa\, AZ\, 85210\, United States
CATEGORIES:Shelter Activities
ORGANIZER;CN="PAWS":MAILTO:info@paws-program.org
END:VEVENT
BEGIN:VEVENT
DTSTART;TZID=America/Phoenix:20251108T130000
DTEND;TZID=America/Phoenix:20251108T140000
DTSTAMP:20260419T081811
CREATED:20251009T205459Z
LAST-MODIFIED:20251029T202902Z
UID:1554-1762606800-1762610400@www.paws-program.org
SUMMARY:Pilates for PAWS
DESCRIPTION:Join us in sweating for cause at The Foundry Gilbert in a Hot Pilates class! \nWhen: Saturday\, November 8th at 1PMWhere: 1815 E. Williams Field Road\, Suite 101\, Gilbert\, AZ 85295(Studio located between Milan Laser Removal and Chip Cookies)Cost: Minimum $25 donation (includes a raffle ticket**)What to bring: Bring your own mat & towel and water. Limited mats available to rent onsite for $5What to wear: Wear clothes that you feel comfortable sweating in and that allow for a wide range of movement. \nRegister Here: https://momence.com/s/124176496  \nClick Book Now -> Scroll past the membership sign ups -> select Gilbert as home location. Complete the requested information\, then use the slider to select your donation amount. \nPlease take a moment to review the studio FAQ’s: https://thefoundryyoga.com/faq-and-sweatiquette \nFor any issues booking please call the studio: 480-219-7432 \n**Raffle prizes to be announced
URL:https://www.paws-program.org/event/pilates-for-paws/
LOCATION:The Foundry Gilbert\, 1815 E. Williams Field Road\, Gilbert\, Arizona\, 85295
ORGANIZER;CN="PAWS":MAILTO:info@paws-program.org
END:VEVENT
BEGIN:VEVENT
DTSTART;TZID=America/Phoenix:20251206T080000
DTEND;TZID=America/Phoenix:20251206T120000
DTSTAMP:20260419T081811
CREATED:20260217T224741Z
LAST-MODIFIED:20260217T224741Z
UID:1620-1765008000-1765022400@www.paws-program.org
SUMMARY:MCACC Enrichment Day
DESCRIPTION:If you are a current MCACC volunteer come join us for our next enrichment event at the MCACC East shelter.  We’ll meet early and have some fun pulling dogs and finish by handling out some calming enrichment activities to the current shelter residents. \nReach out to us at info@paws-program.org if you want to volunteer and be included in future communications.
URL:https://www.paws-program.org/event/mcacc-enrichment-day-4/
LOCATION:MCACC East\, 1920 S Lewis\, Mesa\, AZ\, 85210\, United States
CATEGORIES:Shelter Activities
ORGANIZER;CN="PAWS":MAILTO:info@paws-program.org
END:VEVENT
BEGIN:VEVENT
DTSTART;TZID=America/Phoenix:20260110T080000
DTEND;TZID=America/Phoenix:20260110T120000
DTSTAMP:20260419T081811
CREATED:20260217T224836Z
LAST-MODIFIED:20260217T224836Z
UID:1622-1768032000-1768046400@www.paws-program.org
SUMMARY:MCACC Enrichment Day
DESCRIPTION:If you are a current MCACC volunteer come join us for our next enrichment event at the MCACC East shelter. We’ll meet early and have some fun pulling dogs and finish by handling out some calming enrichment activities to the current shelter residents. \nReach out to us at info@paws-program.org if you want to volunteer and be included in future communications.
URL:https://www.paws-program.org/event/mcacc-enrichment-day-5/
LOCATION:MCACC East\, 1920 S Lewis\, Mesa\, AZ\, 85210\, United States
CATEGORIES:Shelter Activities
ORGANIZER;CN="PAWS":MAILTO:info@paws-program.org
END:VEVENT
BEGIN:VEVENT
DTSTART;TZID=America/Phoenix:20260125T090000
DTEND;TZID=America/Phoenix:20260125T110000
DTSTAMP:20260419T081811
CREATED:20260119T225943Z
LAST-MODIFIED:20260119T230029Z
UID:1601-1769331600-1769338800@www.paws-program.org
SUMMARY:Group Hike
DESCRIPTION:Our next group hike is scheduled for the end of the month.  Groups are coordinated to make sure all of the dogs will be compatible for the environment.  We only have a few left before the heat kicks in. \nIf you’d like to participate in future hikes feel to reach out to us at info@paws-program.org to join the PAWS team and get communications about future events.
URL:https://www.paws-program.org/event/group-hike/
LOCATION:AZ
CATEGORIES:Training
END:VEVENT
BEGIN:VEVENT
DTSTART;TZID=America/Phoenix:20260207T080000
DTEND;TZID=America/Phoenix:20260207T110000
DTSTAMP:20260419T081811
CREATED:20260119T225747Z
LAST-MODIFIED:20260217T222956Z
UID:1599-1770451200-1770462000@www.paws-program.org
SUMMARY:MCACC Enrichment Day
DESCRIPTION:If you are a current MCACC volunteer come join us for our next enrichment event at the MCACC East shelter.  We’ll meet early and have some fun pulling dogs and finish by handling out some calming enrichment activities to the current shelter residents. \nReach out to us at info@paws-program.org if you want to volunteer and be included in future communications.
URL:https://www.paws-program.org/event/mcacc-enrichment-day/
LOCATION:MCACC East\, 1920 S Lewis\, Mesa\, AZ\, 85210\, United States
CATEGORIES:Shelter Activities
ORGANIZER;CN="PAWS":MAILTO:info@paws-program.org
END:VEVENT
BEGIN:VEVENT
DTSTART;TZID=America/Phoenix:20260208T090000
DTEND;TZID=America/Phoenix:20260208T120000
DTSTAMP:20260419T081811
CREATED:20260119T225357Z
LAST-MODIFIED:20260119T225357Z
UID:1595-1770541200-1770552000@www.paws-program.org
SUMMARY:Training and Enrichment Class
DESCRIPTION:Individual and group classes are officially open.  Group/enrichment classes will start our day following by our individual consultation offerings. \nClasses and consultations are open to fosters\, new adopters\, and others in the shelter and rescue community. \nIf you are interested in attending reach out to us at info@paws-program.org if you want to be added to our contact list for attending.
URL:https://www.paws-program.org/event/training-and-enrichment-class/
LOCATION:Heidi’s Village\, 600 N 40th Street\, Phoenix\, Arizona\, 85008\, United States
CATEGORIES:Training
ORGANIZER;CN="PAWS":MAILTO:info@paws-program.org
END:VEVENT
BEGIN:VEVENT
DTSTART;TZID=America/Phoenix:20260222T090000
DTEND;TZID=America/Phoenix:20260222T120000
DTSTAMP:20260419T081811
CREATED:20260119T225514Z
LAST-MODIFIED:20260119T230202Z
UID:1597-1771750800-1771761600@www.paws-program.org
SUMMARY:Training and Enrichment Class
DESCRIPTION:Individual and group classes are officially open.  Group/enrichment classes will start our day following by our individual consultation offerings. \nClasses and consultations are open to fosters\, new adopters\, and others in the shelter and rescue community. \nIf you are interested in attending reach out to us at info@paws-program.org if you want to be added to our contact list for attending.
URL:https://www.paws-program.org/event/training-and-enrichment-class-2/
LOCATION:Heidi’s Village\, 600 N 40th Street\, Phoenix\, Arizona\, 85008\, United States
CATEGORIES:Training
ORGANIZER;CN="PAWS":MAILTO:info@paws-program.org
END:VEVENT
BEGIN:VEVENT
DTSTART;TZID=America/Phoenix:20260301T090000
DTEND;TZID=America/Phoenix:20260301T110000
DTSTAMP:20260419T081811
CREATED:20260217T223503Z
LAST-MODIFIED:20260217T224322Z
UID:1606-1772355600-1772362800@www.paws-program.org
SUMMARY:Group Hike
DESCRIPTION:Our next group hike is scheduled.  Groups are coordinated to make sure all of the dogs will be compatible for the environment.  We only have a few left before the heat kicks in. \nIf you’d like to participate in future hikes feel to reach out to us at info@paws-program.org to join the PAWS team and get communications about future events.
URL:https://www.paws-program.org/event/group-hike-2/
LOCATION:AZ
CATEGORIES:Training
END:VEVENT
BEGIN:VEVENT
DTSTART;TZID=America/Phoenix:20260307T080000
DTEND;TZID=America/Phoenix:20260307T120000
DTSTAMP:20260419T081811
CREATED:20260217T223806Z
LAST-MODIFIED:20260217T223806Z
UID:1608-1772870400-1772884800@www.paws-program.org
SUMMARY:MCACC Enrichment Day
DESCRIPTION:If you are a current MCACC volunteer come join us for our next enrichment event at the MCACC East shelter.  We’ll meet early and have some fun pulling dogs and finish by handling out some calming enrichment activities to the current shelter residents. \nReach out to us at info@paws-program.org if you want to volunteer and be included in future communications.
URL:https://www.paws-program.org/event/mcacc-enrichment-day-2/
LOCATION:MCACC East\, 1920 S Lewis\, Mesa\, AZ\, 85210\, United States
CATEGORIES:Shelter Activities
ORGANIZER;CN="PAWS":MAILTO:info@paws-program.org
END:VEVENT
BEGIN:VEVENT
DTSTART;TZID=America/Phoenix:20260308T090000
DTEND;TZID=America/Phoenix:20260308T120000
DTSTAMP:20260419T081811
CREATED:20260217T223939Z
LAST-MODIFIED:20260217T223939Z
UID:1610-1772960400-1772971200@www.paws-program.org
SUMMARY:Training and Enrichment Class
DESCRIPTION:Individual and group classes are officially open.  Group/enrichment classes will start our day following by our individual consultation offerings. \nClasses and consultations are open to fosters\, new adopters\, and others in the shelter and rescue community. \nIf you are interested in attending reach out to us at info@paws-program.org if you want to be added to our contact list for attending.
URL:https://www.paws-program.org/event/training-and-enrichment-class-3/
LOCATION:Heidi’s Village\, 600 N 40th Street\, Phoenix\, Arizona\, 85008\, United States
CATEGORIES:Training
ORGANIZER;CN="PAWS":MAILTO:info@paws-program.org
END:VEVENT
BEGIN:VEVENT
DTSTART;TZID=America/Phoenix:20260322T090000
DTEND;TZID=America/Phoenix:20260322T120000
DTSTAMP:20260419T081811
CREATED:20260217T224025Z
LAST-MODIFIED:20260217T224025Z
UID:1612-1774170000-1774180800@www.paws-program.org
SUMMARY:Training and Enrichment Class
DESCRIPTION:Individual and group classes are officially open.  Group/enrichment classes will start our day following by our individual consultation offerings. \nClasses and consultations are open to fosters\, new adopters\, and others in the shelter and rescue community. \nIf you are interested in attending reach out to us at info@paws-program.org if you want to be added to our contact list for attending.
URL:https://www.paws-program.org/event/training-and-enrichment-class-4/
LOCATION:Heidi’s Village\, 600 N 40th Street\, Phoenix\, Arizona\, 85008\, United States
CATEGORIES:Training
ORGANIZER;CN="PAWS":MAILTO:info@paws-program.org
END:VEVENT
BEGIN:VEVENT
DTSTART;TZID=America/Phoenix:20260329T090000
DTEND;TZID=America/Phoenix:20260329T110000
DTSTAMP:20260419T081811
CREATED:20260217T224211Z
LAST-MODIFIED:20260217T224348Z
UID:1614-1774774800-1774782000@www.paws-program.org
SUMMARY:Group Hike
DESCRIPTION:Our next group hike is scheduled.  Groups are coordinated to make sure all of the dogs will be compatible for the environment.  We only have a few left before the heat kicks in. \nIf you’d like to participate in future hikes feel to reach out to us at info@paws-program.org to join the PAWS team and get communications about future events.
URL:https://www.paws-program.org/event/group-hike-3/
LOCATION:AZ
CATEGORIES:Training
END:VEVENT
BEGIN:VEVENT
DTSTART;TZID=America/Phoenix:20260404T073000
DTEND;TZID=America/Phoenix:20260404T113000
DTSTAMP:20260419T081811
CREATED:20260327T162613Z
LAST-MODIFIED:20260327T162613Z
UID:1654-1775287800-1775302200@www.paws-program.org
SUMMARY:MCACC Enrichment Day
DESCRIPTION:If you are a current MCACC volunteer come join us for our next enrichment event at the MCACC East shelter.  We’ll meet early and have some fun pulling dogs and finish by handling out some calming enrichment activities to the current shelter residents. \nReach out to us at info@paws-program.org if you want to volunteer and be included in future communications.
URL:https://www.paws-program.org/event/mcacc-enrichment-day-6/
LOCATION:MCACC East\, 1920 S Lewis\, Mesa\, AZ\, 85210\, United States
CATEGORIES:Shelter Activities
ORGANIZER;CN="PAWS":MAILTO:info@paws-program.org
END:VEVENT
BEGIN:VEVENT
DTSTART;TZID=America/Phoenix:20260412T130000
DTEND;TZID=America/Phoenix:20260412T160000
DTSTAMP:20260419T081811
CREATED:20260317T152524Z
LAST-MODIFIED:20260317T152524Z
UID:1644-1775998800-1776009600@www.paws-program.org
SUMMARY:Training and Enrichment Class
DESCRIPTION:Individual and group classes are officially open.  Group/enrichment classes will start our day following by our individual consultation offerings. \nClasses and consultations are open to fosters\, new adopters\, and others in the shelter and rescue community. \nIf you are interested in attending reach out to us at info@paws-program.org if you want to be added to our contact list for attending.
URL:https://www.paws-program.org/event/training-and-enrichment-class-5/
LOCATION:Heidi’s Village\, 600 N 40th Street\, Phoenix\, Arizona\, 85008\, United States
CATEGORIES:Training
ORGANIZER;CN="PAWS":MAILTO:info@paws-program.org
END:VEVENT
BEGIN:VEVENT
DTSTART;TZID=America/Phoenix:20260426T130000
DTEND;TZID=America/Phoenix:20260426T160000
DTSTAMP:20260419T081811
CREATED:20260317T152713Z
LAST-MODIFIED:20260317T152713Z
UID:1646-1777208400-1777219200@www.paws-program.org
SUMMARY:Training and Enrichment Class
DESCRIPTION:Individual and group classes are officially open.  Group/enrichment classes will start our day following by our individual consultation offerings. \nClasses and consultations are open to fosters\, new adopters\, and others in the shelter and rescue community. \nIf you are interested in attending reach out to us at info@paws-program.org if you want to be added to our contact list for attending.
URL:https://www.paws-program.org/event/training-and-enrichment-class-6/
LOCATION:Heidi’s Village\, 600 N 40th Street\, Phoenix\, Arizona\, 85008\, United States
CATEGORIES:Training
ORGANIZER;CN="PAWS":MAILTO:info@paws-program.org
END:VEVENT
BEGIN:VEVENT
DTSTART;TZID=America/Phoenix:20260502T073000
DTEND;TZID=America/Phoenix:20260502T113000
DTSTAMP:20260419T081811
CREATED:20260327T162724Z
LAST-MODIFIED:20260327T162724Z
UID:1653-1777707000-1777721400@www.paws-program.org
SUMMARY:MCACC Enrichment Day
DESCRIPTION:If you are a current MCACC volunteer come join us for our next enrichment event at the MCACC East shelter.  We’ll meet early and have some fun pulling dogs and finish by handling out some calming enrichment activities to the current shelter residents. \nReach out to us at info@paws-program.org if you want to volunteer and be included in future communications.
URL:https://www.paws-program.org/event/mcacc-enrichment-day-7/
LOCATION:MCACC East\, 1920 S Lewis\, Mesa\, AZ\, 85210\, United States
CATEGORIES:Shelter Activities
ORGANIZER;CN="PAWS":MAILTO:info@paws-program.org
END:VEVENT
BEGIN:VEVENT
DTSTART;TZID=America/Phoenix:20260517T130000
DTEND;TZID=America/Phoenix:20260517T160000
DTSTAMP:20260419T081811
CREATED:20260317T152813Z
LAST-MODIFIED:20260317T152813Z
UID:1647-1779022800-1779033600@www.paws-program.org
SUMMARY:Training and Enrichment Class
DESCRIPTION:Individual and group classes are officially open.  Group/enrichment classes will start our day following by our individual consultation offerings. \nClasses and consultations are open to fosters\, new adopters\, and others in the shelter and rescue community. \nIf you are interested in attending reach out to us at info@paws-program.org if you want to be added to our contact list for attending.
URL:https://www.paws-program.org/event/training-and-enrichment-class-7/
LOCATION:Heidi’s Village\, 600 N 40th Street\, Phoenix\, Arizona\, 85008\, United States
CATEGORIES:Training
ORGANIZER;CN="PAWS":MAILTO:info@paws-program.org
END:VEVENT
BEGIN:VEVENT
DTSTART;TZID=America/Phoenix:20260531T130000
DTEND;TZID=America/Phoenix:20260531T160000
DTSTAMP:20260419T081811
CREATED:20260317T152848Z
LAST-MODIFIED:20260317T152848Z
UID:1648-1780232400-1780243200@www.paws-program.org
SUMMARY:Training and Enrichment Class
DESCRIPTION:Individual and group classes are officially open.  Group/enrichment classes will start our day following by our individual consultation offerings. \nClasses and consultations are open to fosters\, new adopters\, and others in the shelter and rescue community. \nIf you are interested in attending reach out to us at info@paws-program.org if you want to be added to our contact list for attending.
URL:https://www.paws-program.org/event/training-and-enrichment-class-8/
LOCATION:Heidi’s Village\, 600 N 40th Street\, Phoenix\, Arizona\, 85008\, United States
CATEGORIES:Training
ORGANIZER;CN="PAWS":MAILTO:info@paws-program.org
END:VEVENT
END:VCALENDAR